BEGIN:VCALENDAR
VERSION:2.0
PRODID:-//Town of Shandaken, NY - ECPv6.15.20//NONSGML v1.0//EN
CALSCALE:GREGORIAN
METHOD:PUBLISH
X-ORIGINAL-URL:https://www.shandaken.gov
X-WR-CALDESC:Events for Town of Shandaken, NY
REFRESH-INTERVAL;VALUE=DURATION:PT1H
X-Robots-Tag:noindex
X-PUBLISHED-TTL:PT1H
BEGIN:VTIMEZONE
TZID:America/New_York
BEGIN:DAYLIGHT
TZOFFSETFROM:-0500
TZOFFSETTO:-0400
TZNAME:EDT
DTSTART:20240310T070000
END:DAYLIGHT
BEGIN:STANDARD
TZOFFSETFROM:-0400
TZOFFSETTO:-0500
TZNAME:EST
DTSTART:20241103T060000
END:STANDARD
BEGIN:DAYLIGHT
TZOFFSETFROM:-0500
TZOFFSETTO:-0400
TZNAME:EDT
DTSTART:20250309T070000
END:DAYLIGHT
BEGIN:STANDARD
TZOFFSETFROM:-0400
TZOFFSETTO:-0500
TZNAME:EST
DTSTART:20251102T060000
END:STANDARD
BEGIN:DAYLIGHT
TZOFFSETFROM:-0500
TZOFFSETTO:-0400
TZNAME:EDT
DTSTART:20260308T070000
END:DAYLIGHT
BEGIN:STANDARD
TZOFFSETFROM:-0400
TZOFFSETTO:-0500
TZNAME:EST
DTSTART:20261101T060000
END:STANDARD
BEGIN:DAYLIGHT
TZOFFSETFROM:-0500
TZOFFSETTO:-0400
TZNAME:EDT
DTSTART:20270314T070000
END:DAYLIGHT
BEGIN:STANDARD
TZOFFSETFROM:-0400
TZOFFSETTO:-0500
TZNAME:EST
DTSTART:20271107T060000
END:STANDARD
END:VTIMEZONE
BEGIN:VEVENT
DTSTART;TZID=America/New_York:20260414T183000
DTEND;TZID=America/New_York:20260414T193000
DTSTAMP:20260420T044712
CREATED:20260407T153915Z
LAST-MODIFIED:20260407T153915Z
UID:3961-1776191400-1776195000@www.shandaken.gov
SUMMARY:Pine Hill Water Meeting
DESCRIPTION:
URL:https://www.shandaken.gov/event/pine-hill-water-meeting-3/
LOCATION:Pine Hill Community Center\, 287 Main St\, Pine Hill\, NY\, 12465\, United States
CATEGORIES:Pine Hill Water Committee
END:VEVENT
BEGIN:VEVENT
DTSTART;TZID=America/New_York:20260309T190000
DTEND;TZID=America/New_York:20260309T200000
DTSTAMP:20260420T044712
CREATED:20260304T022132Z
LAST-MODIFIED:20260304T022211Z
UID:3771-1773082800-1773086400@www.shandaken.gov
SUMMARY:Pine Hill Water Comm. Meeting
DESCRIPTION:
URL:https://www.shandaken.gov/event/pine-hill-water-comm-meeting/
LOCATION:Pine Hill Community Center\, 287 Main St\, Pine Hill\, NY\, 12465\, United States
CATEGORIES:Pine Hill Water Committee
END:VEVENT
BEGIN:VEVENT
DTSTART;TZID=America/New_York:20250903T183000
DTEND;TZID=America/New_York:20250903T193000
DTSTAMP:20260420T044712
CREATED:20250826T173643Z
LAST-MODIFIED:20250826T173643Z
UID:2927-1756924200-1756927800@www.shandaken.gov
SUMMARY:Pine Hill Water Meeting
DESCRIPTION:
URL:https://www.shandaken.gov/event/pine-hill-water-meeting-2/
LOCATION:Pine Hill Community Center\, 287 Main St\, Pine Hill\, NY\, 12465\, United States
CATEGORIES:Pine Hill Water Committee
END:VEVENT
BEGIN:VEVENT
DTSTART;TZID=America/New_York:20250826T180000
DTEND;TZID=America/New_York:20250826T190000
DTSTAMP:20260420T044712
CREATED:20250722T235359Z
LAST-MODIFIED:20250826T173218Z
UID:2762-1756231200-1756234800@www.shandaken.gov
SUMMARY:Pine Hill Water Meeting CANCELLED
DESCRIPTION:Rescheduled to Sept. 3rd at 6pm
URL:https://www.shandaken.gov/event/pine-hill-water-meeting/
LOCATION:Pine Hill Community Center\, 287 Main St\, Pine Hill\, NY\, 12465\, United States
CATEGORIES:Pine Hill Water Committee
END:VEVENT
BEGIN:VEVENT
DTSTART;TZID=America/New_York:20250722T180000
DTEND;TZID=America/New_York:20250722T190000
DTSTAMP:20260420T044712
CREATED:20250716T203940Z
LAST-MODIFIED:20250716T203940Z
UID:2740-1753207200-1753210800@www.shandaken.gov
SUMMARY:Pine Hill Water Comm. Meeting 6pm
DESCRIPTION:
URL:https://www.shandaken.gov/event/pine-hill-water-comm-meeting-6pm/
LOCATION:Pine Hill Community Center\, 287 Main St\, Pine Hill\, NY\, 12465\, United States
CATEGORIES:Pine Hill Water Committee
END:VEVENT
BEGIN:VEVENT
DTSTART;TZID=America/New_York:20250624T180000
DTEND;TZID=America/New_York:20250624T190000
DTSTAMP:20260420T044712
CREATED:20250621T235135Z
LAST-MODIFIED:20250621T235135Z
UID:2611-1750788000-1750791600@www.shandaken.gov
SUMMARY:Pine Hill Water Committee Meeting 6pm
DESCRIPTION:
URL:https://www.shandaken.gov/event/pine-hill-water-committee-meeting-6pm/
LOCATION:Pine Hill Community Center\, 287 Main St\, Pine Hill\, NY\, 12465\, United States
CATEGORIES:Pine Hill Water Committee
END:VEVENT
END:VCALENDAR