BEGIN:VCALENDAR
VERSION:2.0
PRODID:-//Town of Shandaken, NY - ECPv6.15.20//NONSGML v1.0//EN
CALSCALE:GREGORIAN
METHOD:PUBLISH
X-WR-CALNAME:Town of Shandaken, NY
X-ORIGINAL-URL:https://www.shandaken.gov
X-WR-CALDESC:Events for Town of Shandaken, NY
REFRESH-INTERVAL;VALUE=DURATION:PT1H
X-Robots-Tag:noindex
X-PUBLISHED-TTL:PT1H
BEGIN:VTIMEZONE
TZID:America/New_York
BEGIN:DAYLIGHT
TZOFFSETFROM:-0500
TZOFFSETTO:-0400
TZNAME:EDT
DTSTART:20240310T070000
END:DAYLIGHT
BEGIN:STANDARD
TZOFFSETFROM:-0400
TZOFFSETTO:-0500
TZNAME:EST
DTSTART:20241103T060000
END:STANDARD
BEGIN:DAYLIGHT
TZOFFSETFROM:-0500
TZOFFSETTO:-0400
TZNAME:EDT
DTSTART:20250309T070000
END:DAYLIGHT
BEGIN:STANDARD
TZOFFSETFROM:-0400
TZOFFSETTO:-0500
TZNAME:EST
DTSTART:20251102T060000
END:STANDARD
BEGIN:DAYLIGHT
TZOFFSETFROM:-0500
TZOFFSETTO:-0400
TZNAME:EDT
DTSTART:20260308T070000
END:DAYLIGHT
BEGIN:STANDARD
TZOFFSETFROM:-0400
TZOFFSETTO:-0500
TZNAME:EST
DTSTART:20261101T060000
END:STANDARD
END:VTIMEZONE
BEGIN:VEVENT
DTSTART;TZID=America/New_York:20250224T190000
DTEND;TZID=America/New_York:20250224T200000
DTSTAMP:20260419T210514
CREATED:20250212T235749Z
LAST-MODIFIED:20250226T142102Z
UID:1739-1740423600-1740427200@www.shandaken.gov
SUMMARY:HSC Housing Smart Committee 6pm
DESCRIPTION:
URL:https://www.shandaken.gov/event/hsc-housing-smart-committee-7pm/
LOCATION:Shandaken Town Hall\, 7209 NY-28\, Shandaken\, 12480\, United States
CATEGORIES:Housing Smart Committee
END:VEVENT
BEGIN:VEVENT
DTSTART;TZID=America/New_York:20250224T180000
DTEND;TZID=America/New_York:20250224T190000
DTSTAMP:20260419T210514
CREATED:20250220T184958Z
LAST-MODIFIED:20250220T185005Z
UID:1811-1740420000-1740423600@www.shandaken.gov
SUMMARY:Parks & Recreation Meeting
DESCRIPTION:
URL:https://www.shandaken.gov/event/parks-recreation-meeting/
LOCATION:Shandaken Town Hall\, 7209 NY-28\, Shandaken\, 12480\, United States
CATEGORIES:Parks & Rec Committee
END:VEVENT
BEGIN:VEVENT
DTSTART;TZID=America/New_York:20250220T183000
DTEND;TZID=America/New_York:20250220T193000
DTSTAMP:20260419T210514
CREATED:20250209T041346Z
LAST-MODIFIED:20250217T195426Z
UID:1600-1740076200-1740079800@www.shandaken.gov
SUMMARY:Town Bd Meeting at Pine Hill Comm. Ctr
DESCRIPTION:Discussion will be held on the status of the Water Metering System and the expenditure of $160\,000.00 (over 10 yrs) to update the system
URL:https://www.shandaken.gov/event/town-bd-meeting-at-pine-hill-comm-ctr/
LOCATION:Pine Hill Community Center\, 287 Main St\, Pine Hill\, NY\, 12465\, United States
CATEGORIES:Other,Town Board
END:VEVENT
BEGIN:VEVENT
DTSTART;TZID=America/New_York:20250219T190000
DTEND;TZID=America/New_York:20250219T200000
DTSTAMP:20260419T210514
CREATED:20250209T041116Z
LAST-MODIFIED:20250214T171205Z
UID:1598-1739991600-1739995200@www.shandaken.gov
SUMMARY:ZBA Meeting 7pm
DESCRIPTION:ZBA FEB 2025 AGENDA
URL:https://www.shandaken.gov/event/zba-meeting-7pm/
LOCATION:Shandaken Town Hall\, 7209 NY-28\, Shandaken\, 12480\, United States
CATEGORIES:Zoning Board of Appeals
END:VEVENT
BEGIN:VEVENT
DTSTART;TZID=America/New_York:20250217T183000
DTEND;TZID=America/New_York:20250217T193000
DTSTAMP:20260419T210514
CREATED:20250212T235524Z
LAST-MODIFIED:20250219T015417Z
UID:1738-1739817000-1739820600@www.shandaken.gov
SUMMARY:Conservation Advisory Council 6:30 pm
DESCRIPTION:
URL:https://www.shandaken.gov/event/conservation-advisory-council-630-pm/
CATEGORIES:Conservation Advisory Council
END:VEVENT
BEGIN:VEVENT
DTSTART;TZID=America/New_York:20250212T184500
DTEND;TZID=America/New_York:20250212T203000
DTSTAMP:20260419T210514
CREATED:20250209T040945Z
LAST-MODIFIED:20250213T000111Z
UID:1594-1739385900-1739392200@www.shandaken.gov
SUMMARY:Planning Board Meeting - CANCELED FOR WEATHER
DESCRIPTION:FEB-12TH-PB-AGENDA \nPlanning Board Public Hearing scheduled for 2/12/25 6:45 pm- Rescheduled to 2/26 6:45\nPerpetual-Space-Legal-Notice
URL:https://www.shandaken.gov/event/planning-board-meeting/
LOCATION:Shandaken Town Hall\, 7209 NY-28\, Shandaken\, 12480\, United States
CATEGORIES:Planning Board,PUBLIC HEARING
END:VEVENT
END:VCALENDAR